BEGIN:VCALENDAR
VERSION:2.0
PRODID:-//AbbVie Care - ECPv6.11.2//NONSGML v1.0//EN
CALSCALE:GREGORIAN
METHOD:PUBLISH
X-WR-CALNAME:AbbVie Care
X-ORIGINAL-URL:https://abbviecare.es
X-WR-CALDESC:Events for AbbVie Care
REFRESH-INTERVAL;VALUE=DURATION:PT1H
X-Robots-Tag:noindex
X-PUBLISHED-TTL:PT1H
BEGIN:VTIMEZONE
TZID:Europe/Paris
BEGIN:DAYLIGHT
TZOFFSETFROM:+0100
TZOFFSETTO:+0200
TZNAME:CEST
DTSTART:20220327T010000
END:DAYLIGHT
BEGIN:STANDARD
TZOFFSETFROM:+0200
TZOFFSETTO:+0100
TZNAME:CET
DTSTART:20221030T010000
END:STANDARD
END:VTIMEZONE
BEGIN:VEVENT
DTSTART;TZID=Europe/Paris:20220111T193000
DTEND;TZID=Europe/Paris:20220111T203000
DTSTAMP:20260425T163931
CREATED:20220110T142714Z
LAST-MODIFIED:20220110T155008Z
UID:3923-1641929400-1641933000@abbviecare.es
SUMMARY:Yoga terapéutico para el dolor crónico
DESCRIPTION:Yoga terapéutico para el dolor crónico\nTodos los martes y miércoles.\nCuota 40eur/mes \nMás información
URL:https://abbviecare.es/evento/yoga-terapeutico-para-el-dolor-cronico/2022-01-11/
ATTACH;FMTTYPE=image/jpeg:https://abbviecare.es/wp-content/uploads/2022/01/yoga-terapeutico-reuma.jpg
END:VEVENT
END:VCALENDAR