BEGIN:VCALENDAR
VERSION:2.0
PRODID:-//AbbVie Care - ECPv6.11.2//NONSGML v1.0//EN
CALSCALE:GREGORIAN
METHOD:PUBLISH
X-ORIGINAL-URL:https://abbviecare.es
X-WR-CALDESC:Events for AbbVie Care
REFRESH-INTERVAL;VALUE=DURATION:PT1H
X-Robots-Tag:noindex
X-PUBLISHED-TTL:PT1H
BEGIN:VTIMEZONE
TZID:Europe/Paris
BEGIN:DAYLIGHT
TZOFFSETFROM:+0100
TZOFFSETTO:+0200
TZNAME:CEST
DTSTART:20230326T010000
END:DAYLIGHT
BEGIN:STANDARD
TZOFFSETFROM:+0200
TZOFFSETTO:+0100
TZNAME:CET
DTSTART:20231029T010000
END:STANDARD
BEGIN:DAYLIGHT
TZOFFSETFROM:+0100
TZOFFSETTO:+0200
TZNAME:CEST
DTSTART:20240331T010000
END:DAYLIGHT
BEGIN:STANDARD
TZOFFSETFROM:+0200
TZOFFSETTO:+0100
TZNAME:CET
DTSTART:20241027T010000
END:STANDARD
END:VTIMEZONE
BEGIN:VEVENT
DTSTART;TZID=Europe/Paris:20241002T173000
DTEND;TZID=Europe/Paris:20241002T190000
DTSTAMP:20260425T222753
CREATED:20240926T093956Z
LAST-MODIFIED:20240926T093956Z
UID:6520-1727890200-1727895600@abbviecare.es
SUMMARY:Factores Ambientales y Dermatits Atópica
DESCRIPTION:Factores Ambientales y Dermatits Atópica\nSeguimos con nuevas charlas de especialistas! En esta ocasión contamos con @ferrancil\, médico especializado en medicina ambiental que nos hablará de cómo nuestro medio puede afectar a nuestra dermatitis atópicca. Un tema super interesante y novedoso… ¡no te lo pierdas! Será el próximo 2 de octubre a las 17:30h online. Inscripción en el área de socio de la web de AADA \nMás información
URL:https://abbviecare.es/evento/factores-ambientales-y-dermatits-atopica/
ATTACH;FMTTYPE=image/jpeg:https://abbviecare.es/wp-content/uploads/2024/09/charlas-especialistas-aada.jpg
END:VEVENT
BEGIN:VEVENT
DTSTART;TZID=Europe/Paris:20231127T180000
DTEND;TZID=Europe/Paris:20231127T190000
DTSTAMP:20260425T222753
CREATED:20231108T113600Z
LAST-MODIFIED:20231108T113600Z
UID:5862-1701108000-1701111600@abbviecare.es
SUMMARY:Evento Dia Nacional
DESCRIPTION:Evento Dia Nacional\nCuándo: Lunes 27 de noviembre de 18h-20:00h\nDónde: espacio Bertelsmann (Calle de O’Donnell\, 10\, 28009 Madrid ) \nMás información
URL:https://abbviecare.es/evento/evento-dia-nacional/
ATTACH;FMTTYPE=image/jpeg:https://abbviecare.es/wp-content/uploads/2023/11/aada-dia-nacional.jpg
END:VEVENT
BEGIN:VEVENT
DTSTART;VALUE=DATE:20231122
DTEND;VALUE=DATE:20231123
DTSTAMP:20260425T222753
CREATED:20231108T112311Z
LAST-MODIFIED:20231108T112311Z
UID:5856-1700611200-1700697599@abbviecare.es
SUMMARY:II Edición de las DAG Talks
DESCRIPTION:II Edición de las DAG Talks\nUn punto de encuentro para que personas con dermatitis atópica grave conozcan y se inspiren con historias de superación de otros pacientes reales \nMás información
URL:https://abbviecare.es/evento/ii-edicion-de-las-dag-talks/
ATTACH;FMTTYPE=image/png:https://abbviecare.es/wp-content/uploads/2023/11/2-edicion-dag-talks.png
END:VEVENT
BEGIN:VEVENT
DTSTART;TZID=Europe/Paris:20230930T100000
DTEND;TZID=Europe/Paris:20230930T143000
DTSTAMP:20260425T222753
CREATED:20230914T112758Z
LAST-MODIFIED:20230914T112929Z
UID:5651-1696068000-1696084200@abbviecare.es
SUMMARY:Paseo por la naturaleza - Valencia
DESCRIPTION:Paseo por la naturaleza – Valencia\n🌿🚶‍♀️🚶‍♂️ ¡Únete a nosotros en una caminata en la naturaleza! 🌿🚶‍♀️🚶‍♂️\nComo ya sabéis\, se han visto muchos beneficios por estar en contacto con la naturaleza en personas con dermatitis atópica\, así que repetimos actividad. \nMás información
URL:https://abbviecare.es/evento/paseo-por-la-naturaleza-valencia/
ATTACH;FMTTYPE=image/jpeg:https://abbviecare.es/wp-content/uploads/2023/09/paseo-naturaleza-evento-dermatitis-atopica.jpeg
END:VEVENT
BEGIN:VEVENT
DTSTART;TZID=Europe/Paris:20230316T180000
DTEND;TZID=Europe/Paris:20230316T190000
DTSTAMP:20260425T222753
CREATED:20230314T132250Z
LAST-MODIFIED:20230314T132315Z
UID:5112-1678989600-1678993200@abbviecare.es
SUMMARY:Charla Online Dermatitis Atópica Infantil
DESCRIPTION:En esta ocasión contaremos con la doctora Fatima Albízuri Prado\, Dermatóloga\,  que nos hablará el próximo 16 de marzo sobre dermatitis atopica infantil. \nMás información
URL:https://abbviecare.es/evento/charla-online-dermatitis-atopica-infantil/
ATTACH;FMTTYPE=image/jpeg:https://abbviecare.es/wp-content/uploads/2023/03/charla-dermatitis-infantil.jpg
END:VEVENT
BEGIN:VEVENT
DTSTART;TZID=Europe/Paris:20230131T180000
DTEND;TZID=Europe/Paris:20230131T193000
DTSTAMP:20260425T222753
CREATED:20230131T115518Z
LAST-MODIFIED:20230131T115518Z
UID:5085-1675188000-1675193400@abbviecare.es
SUMMARY:Charla online sobre aspectos microbiota y Dermatitis Atópica
DESCRIPTION:Comenzamos ls charlas de 2023 con un tema tan interesante como el de la microbiota! El 31 de enero tendremos el placer de contar con Almudena Nuño\,  que nos hablará sobre microbiota y dermatitis atopica. Apúntate en tu área de socio. \nMás información
URL:https://abbviecare.es/evento/charla-online-sobre-aspectos-microbiota-y-dermatitis-atopica/
ATTACH;FMTTYPE=image/jpeg:https://abbviecare.es/wp-content/uploads/2023/01/charla-online-microbiota.jpg
END:VEVENT
END:VCALENDAR