BEGIN:VCALENDAR
VERSION:2.0
PRODID:-//AbbVie Care - ECPv6.11.2//NONSGML v1.0//EN
CALSCALE:GREGORIAN
METHOD:PUBLISH
X-ORIGINAL-URL:https://abbviecare.es
X-WR-CALDESC:Events for AbbVie Care
REFRESH-INTERVAL;VALUE=DURATION:PT1H
X-Robots-Tag:noindex
X-PUBLISHED-TTL:PT1H
BEGIN:VTIMEZONE
TZID:Europe/Paris
BEGIN:DAYLIGHT
TZOFFSETFROM:+0100
TZOFFSETTO:+0200
TZNAME:CEST
DTSTART:20210328T010000
END:DAYLIGHT
BEGIN:STANDARD
TZOFFSETFROM:+0200
TZOFFSETTO:+0100
TZNAME:CET
DTSTART:20211031T010000
END:STANDARD
BEGIN:DAYLIGHT
TZOFFSETFROM:+0100
TZOFFSETTO:+0200
TZNAME:CEST
DTSTART:20220327T010000
END:DAYLIGHT
BEGIN:STANDARD
TZOFFSETFROM:+0200
TZOFFSETTO:+0100
TZNAME:CET
DTSTART:20221030T010000
END:STANDARD
BEGIN:DAYLIGHT
TZOFFSETFROM:+0100
TZOFFSETTO:+0200
TZNAME:CEST
DTSTART:20230326T010000
END:DAYLIGHT
BEGIN:STANDARD
TZOFFSETFROM:+0200
TZOFFSETTO:+0100
TZNAME:CET
DTSTART:20231029T010000
END:STANDARD
END:VTIMEZONE
BEGIN:VEVENT
DTSTART;VALUE=DATE:20231026
DTEND;VALUE=DATE:20231030
DTSTAMP:20260425T213501
CREATED:20231006T072244Z
LAST-MODIFIED:20231006T072244Z
UID:5792-1698278400-1698623999@abbviecare.es
SUMMARY:Quedada jóvenes ACCU
DESCRIPTION:Quedada jóvenes ACCU\nNo te pierdas la QUEDADA PARS JOVENES HASTA 33 años de ACCU ESPAÑA! un fin de semana con evento de entrega de premios del concurso ARTEii\, talleres súper interesantes\, musical de MAMMA MÍA\, salida especial.. con jotel y todo incluido con beca joven. no te lo puedes perder. Con todo incluido pensiones completa. \nMás información
URL:https://abbviecare.es/evento/quedada-jovenes-accu/
ATTACH;FMTTYPE=image/jpeg:https://abbviecare.es/wp-content/uploads/2023/10/quedada-jovenes-accu.jpg
END:VEVENT
BEGIN:VEVENT
DTSTART;TZID=Europe/Paris:20230623T170000
DTEND;TZID=Europe/Paris:20230623T180000
DTSTAMP:20260425T213501
CREATED:20230620T145221Z
LAST-MODIFIED:20230620T145221Z
UID:5413-1687539600-1687543200@abbviecare.es
SUMMARY:II Congreso ACCU Juntos hacemos más
DESCRIPTION:II Congreso ACCU Juntos hacemos más\nEl I Congreso ACCU tiene como objetivo principal fomentar la participación del mundo asociativo y mejorar su posicionamiento en los diferentes niveles de gestión sanitaria y social. Actualmente\, estamos viviendo un cambio en las funciones de las organizaciones de pacientes al incluir nuestra voz en comisiones donde se debaten y deciden temas estratégicos para la mejora de la gestión sociosanitaria. Es por esto que\, para la Confederación ACCU España\, se ha vuelto fundamental promover la participación de los pacientes en los procesos de investigación e innovación y profesionalizar y fortalecer el mundo asociativo ante los nuevos retos que se presentan. Todo ello\, con el fin de aumentar la calidad asistencial mediante la medicina basada en valor y la digitalización sociosanitaria. \n \n  \nMás información
URL:https://abbviecare.es/evento/ii-congreso-accu-juntos-hacemos-mas/
ATTACH;FMTTYPE=image/png:https://abbviecare.es/wp-content/uploads/2023/06/Cartel-WEB-congreso-ACCU-1600x800-1.png
END:VEVENT
BEGIN:VEVENT
DTSTART;VALUE=DATE:20220901
DTEND;VALUE=DATE:20220905
DTSTAMP:20260425T213501
CREATED:20220721T092259Z
LAST-MODIFIED:20220721T092259Z
UID:4803-1661990400-1662335999@abbviecare.es
SUMMARY:ACCU España: Los Colichrones nos vamos a Murcia
DESCRIPTION:Desde ACCU España\, junto a ACCU Murcia\, se ha organizado una convivencia presencial para personas con una EII menores de 33 años. Una oportunidad para conocer a otros pacientes en un espacio de reflexión\, apoyo y diversión. \nPlazas limitadas ¡Apúntate antes del 31 de julio!
URL:https://abbviecare.es/evento/accu-los-colichrones-nos-vamos-a-murcia/
END:VEVENT
BEGIN:VEVENT
DTSTART;TZID=Europe/Paris:20220603T170000
DTEND;TZID=Europe/Paris:20220603T203000
DTSTAMP:20260425T213501
CREATED:20220601T091632Z
LAST-MODIFIED:20220601T091632Z
UID:4658-1654275600-1654288200@abbviecare.es
SUMMARY:Convención y Asamblea de ACCU España
DESCRIPTION:Convención y Asamblea de ACCU España\nEstamos muy contentos de poder contaros que vamos a tener EL PRIMER CONGRESO ACCU\, dentro de la convención anual. Un evento que lo hemos trabajado con mucho esfuerzo\, cariño e ilusión y que va a ser increible. Un congreso accesible a todos los pacientes: tanto si vienen a Panticosa como los que estén en sus casas porque lo vamos a hacer en streaming (con un equipo de profesionales de streaming para que no haya problemas). \n  \nMás información
URL:https://abbviecare.es/evento/convencion-y-asamblea-de-accu-espana/
LOCATION:Balneario de Panticosa\, Balneario de Panticosa\, Huesca\, España
ATTACH;FMTTYPE=image/jpeg:https://abbviecare.es/wp-content/uploads/2022/06/20220602-evento-accu.jpeg
END:VEVENT
BEGIN:VEVENT
DTSTART;VALUE=DATE:20220602
DTEND;VALUE=DATE:20220603
DTSTAMP:20260425T213501
CREATED:20220512T145015Z
LAST-MODIFIED:20220512T145015Z
UID:4643-1654128000-1654214399@abbviecare.es
SUMMARY:Mesa informativa en la Universidad de Sevilla
DESCRIPTION:Mesa informativa en la Universidad de Sevilla\, Campus Ramón y Cajal\, Facultad de Ciencias de la Educación\nMás información
URL:https://abbviecare.es/evento/mesa-informativa-en-la-universidad-de-sevilla-2/
ATTACH;FMTTYPE=image/jpeg:https://abbviecare.es/wp-content/uploads/2022/05/accu-sevilla-logo.jpeg
END:VEVENT
BEGIN:VEVENT
DTSTART;VALUE=DATE:20220526
DTEND;VALUE=DATE:20220527
DTSTAMP:20260425T213501
CREATED:20220512T144904Z
LAST-MODIFIED:20220512T144904Z
UID:4641-1653523200-1653609599@abbviecare.es
SUMMARY:Mesa informativa en la Universidad de Sevilla
DESCRIPTION:Mesa informativa en la Universidad de Sevilla\, Edificio Rectorado\, Calle San Fernando\nMás información
URL:https://abbviecare.es/evento/mesa-informativa-en-la-universidad-de-sevilla/
ATTACH;FMTTYPE=image/jpeg:https://abbviecare.es/wp-content/uploads/2022/05/accu-sevilla-logo.jpeg
END:VEVENT
BEGIN:VEVENT
DTSTART;VALUE=DATE:20220524
DTEND;VALUE=DATE:20220525
DTSTAMP:20260425T213501
CREATED:20220512T144704Z
LAST-MODIFIED:20220512T144704Z
UID:4639-1653350400-1653436799@abbviecare.es
SUMMARY:"Cómo afronto mi Enfermedad Inflamatoria Intestinal"
DESCRIPTION:Ponencia en el Ayuntamiento de La Algaba «Cómo afronto mi Enfermedad Inflamatoria Intestinal»\nMás información
URL:https://abbviecare.es/evento/como-afronto-mi-enfermedad-inflamatoria-intestinal/
ATTACH;FMTTYPE=image/jpeg:https://abbviecare.es/wp-content/uploads/2022/05/accu-sevilla-logo.jpeg
END:VEVENT
BEGIN:VEVENT
DTSTART;VALUE=DATE:20220519
DTEND;VALUE=DATE:20220520
DTSTAMP:20260425T213501
CREATED:20220512T144526Z
LAST-MODIFIED:20220512T144526Z
UID:4637-1652918400-1653004799@abbviecare.es
SUMMARY:Mesas informativas
DESCRIPTION:Mesas informativas:\n\nHospital Virgen del Rocío\nHospital del Valme\nHospital San Juan de Dios del Aljarafe\nUniversidad de Sevilla\, Campus Perdigones \, Facultad de EFP.\nRueda de prensa y visita guiada a la exposición «EII mucho más que tres letras»\n\nMás información
URL:https://abbviecare.es/evento/mesas-informativas/
ATTACH;FMTTYPE=image/jpeg:https://abbviecare.es/wp-content/uploads/2022/05/accu-sevilla-logo.jpeg
END:VEVENT
BEGIN:VEVENT
DTSTART;VALUE=DATE:20220518
DTEND;VALUE=DATE:20220519
DTSTAMP:20260425T213501
CREATED:20220512T144310Z
LAST-MODIFIED:20220512T144310Z
UID:4635-1652832000-1652918399@abbviecare.es
SUMMARY:Ponencia en el Hospital Juan Ramón Jiménez "Cómo afronto mi Enfermedad Inflamatoria Intestinal"
DESCRIPTION:Ponencia en el Hospital Juan Ramón Jiménez «Cómo afronto mi Enfermedad Inflamatoria Intestinal»\nMás información
URL:https://abbviecare.es/evento/ponencia-en-el-hospital-juan-ramon-jimenez-como-afronto-mi-enfermedad-inflamatoria-intestinal/
ATTACH;FMTTYPE=image/jpeg:https://abbviecare.es/wp-content/uploads/2022/05/accu-sevilla-logo.jpeg
END:VEVENT
BEGIN:VEVENT
DTSTART;VALUE=DATE:20220513
DTEND;VALUE=DATE:20220514
DTSTAMP:20260425T213501
CREATED:20220512T144005Z
LAST-MODIFIED:20220512T144005Z
UID:4632-1652400000-1652486399@abbviecare.es
SUMMARY:Taller informativo "Asesoramiento Dietético con EII"
DESCRIPTION:Taller informativo «Asesoramiento Dietético con EII»\nMás información
URL:https://abbviecare.es/evento/taller-informativo-asesoramiento-dietetico-con-eii/
ATTACH;FMTTYPE=image/jpeg:https://abbviecare.es/wp-content/uploads/2022/05/accu-sevilla-logo.jpeg
END:VEVENT
BEGIN:VEVENT
DTSTART;TZID=Europe/Paris:20211117T180000
DTEND;TZID=Europe/Paris:20211117T190000
DTSTAMP:20260425T213501
CREATED:20211115T162547Z
LAST-MODIFIED:20211122T104952Z
UID:3599-1637172000-1637175600@abbviecare.es
SUMMARY:Diálogos. Empleabilidad con EII
DESCRIPTION:Diálogos. Empleabilidad con EII\nMás información
URL:https://abbviecare.es/evento/dialogos-empleabilidad-con-eii/
ATTACH;FMTTYPE=image/jpeg:https://abbviecare.es/wp-content/uploads/2021/11/20211115-dialogos-accu.jpg
END:VEVENT
END:VCALENDAR