BEGIN:VCALENDAR
VERSION:2.0
PRODID:-//AbbVie Care - ECPv6.11.2//NONSGML v1.0//EN
CALSCALE:GREGORIAN
METHOD:PUBLISH
X-WR-CALNAME:AbbVie Care
X-ORIGINAL-URL:https://abbviecare.es
X-WR-CALDESC:Events for AbbVie Care
REFRESH-INTERVAL;VALUE=DURATION:PT1H
X-Robots-Tag:noindex
X-PUBLISHED-TTL:PT1H
BEGIN:VTIMEZONE
TZID:Europe/Paris
BEGIN:DAYLIGHT
TZOFFSETFROM:+0100
TZOFFSETTO:+0200
TZNAME:CEST
DTSTART:20210328T010000
END:DAYLIGHT
BEGIN:STANDARD
TZOFFSETFROM:+0200
TZOFFSETTO:+0100
TZNAME:CET
DTSTART:20211031T010000
END:STANDARD
BEGIN:DAYLIGHT
TZOFFSETFROM:+0100
TZOFFSETTO:+0200
TZNAME:CEST
DTSTART:20220327T010000
END:DAYLIGHT
BEGIN:STANDARD
TZOFFSETFROM:+0200
TZOFFSETTO:+0100
TZNAME:CET
DTSTART:20221030T010000
END:STANDARD
BEGIN:DAYLIGHT
TZOFFSETFROM:+0100
TZOFFSETTO:+0200
TZNAME:CEST
DTSTART:20230326T010000
END:DAYLIGHT
BEGIN:STANDARD
TZOFFSETFROM:+0200
TZOFFSETTO:+0100
TZNAME:CET
DTSTART:20231029T010000
END:STANDARD
END:VTIMEZONE
BEGIN:VEVENT
DTSTART;VALUE=DATE:20231018
DTEND;VALUE=DATE:20231020
DTSTAMP:20260425T191238
CREATED:20231006T070449Z
LAST-MODIFIED:20231006T070449Z
UID:5776-1697587200-1697759999@abbviecare.es
SUMMARY:III Congreso de Personas con Artritis y Espondiloartritis
DESCRIPTION:III Congreso de Personas con Artritis y Espondiloartritis\nCon el objetivo de informar y formar a las personas con enfermedades reumáticas inmunomediadas y otras interesadas en temas relacionados con estas patologías\, desarrollaremos en modalidad virtual los días 18 y 19 de octubre III Congreso de Personas con Artritis y Espondiloartritis. \nMesas de diálogo entre destacados profesionales sanitarios y sociosanitarios\, personas con artritis y movimiento asociativo para ofrecer una visión holística de cuatro diferentes caras de estas enfermedades: “Triada: dolor\, fatiga\, calidad del sueño”\, “Maternidad/paternidad con artritis y espondiloartritis”\, “Nueva vida a las articulaciones: prótesis”\, “Salud y estética”. \nLa asistencia al congreso es gratuita y es necesaria inscripción previa. El hashtag para seguir este evento en redes sociales es #CongresoAR23 \nMás información
URL:https://abbviecare.es/evento/iii-congreso-de-personas-con-artritis-y-espondiloartritis/
ATTACH;FMTTYPE=image/png:https://abbviecare.es/wp-content/uploads/2023/10/III-congreso.personas-artritis-espoindiloartritis.png
END:VEVENT
BEGIN:VEVENT
DTSTART;VALUE=DATE:20231007
DTEND;VALUE=DATE:20231009
DTSTAMP:20260425T191238
CREATED:20230914T113249Z
LAST-MODIFIED:20230914T113331Z
UID:5654-1696636800-1696809599@abbviecare.es
SUMMARY:IV Carrera Camina y pedalea por la artritis y la espondilitis
DESCRIPTION:IV Carrera Camina y pedalea por la artritis y la espondilitis\n¡Ya están abiertas las inscripciones en nuestra IV Carrera Camina y Pedalea por la Artritis y la Espondilitis! Suma tus kilómetros los días 7 y 8 de octubre para dar visibilidad a estas enfermedades y mostrar tu apoyo a quienes conviven con ellas y\, además\, podrás ganar fantásticos premios. \nMás información
URL:https://abbviecare.es/evento/iv-carrera-camina-y-pedalea-por-la-artritis-y-la-espondilitis/
ATTACH;FMTTYPE=image/jpeg:https://abbviecare.es/wp-content/uploads/2023/09/carrera-solidaria-artritis-espondilitis.jpg
END:VEVENT
BEGIN:VEVENT
DTSTART;VALUE=DATE:20221015
DTEND;VALUE=DATE:20221017
DTSTAMP:20260425T191238
CREATED:20220927T151739Z
LAST-MODIFIED:20220927T152258Z
UID:4898-1665792000-1665964799@abbviecare.es
SUMMARY:Carrera solidaria Camina y Pedalea por la Artritis y la Espondilitis
DESCRIPTION:Carrera solidaria Camina y Pedalea por la Artritis y la Espondilitis\n¡Aprovecha el fin de semana para apuntarte a nuestra III Carrera solidaria Camina y Pedalea por la Artritis y la Espondilitis! \nSuma tus kilómetros a nuestra causa en www.octubreconartritis.org \nMás información
URL:https://abbviecare.es/evento/carrera-solidaria-camina-y-pedalea-por-la-artritis-y-la-espondilitis/
ATTACH;FMTTYPE=image/jpeg:https://abbviecare.es/wp-content/uploads/2022/09/carrera-solidaria-con-artritis.jpg
END:VEVENT
BEGIN:VEVENT
DTSTART;VALUE=DATE:20220910
DTEND;VALUE=DATE:20220911
DTSTAMP:20260425T191238
CREATED:20220721T091746Z
LAST-MODIFIED:20220721T091746Z
UID:4801-1662768000-1662854399@abbviecare.es
SUMMARY:ConArtritis y CEADE: Para menores con enfermedades reumáticas
DESCRIPTION:Con el objetivo de inculcar el hábito del ejercicio físico entre pacientes infantiles con enfermedades reumáticas inmunomediadas\, como la artritis idiopática juvenil\, la Sociedad Española de Reumatología organiza ReumaFit Junior. Evento en el que podrán disfrutar de actividades divertidas y diferentes\, así como conocer a otros menores. \nSe trata de un actividad gratuita dirigida a menores de entre 8 y 14 años\, quienes estarán acompañados por un especialista en reumatología\, monitores y personal de la organización. \n 
URL:https://abbviecare.es/evento/conartritis-y-ceade-para-menores-con-enfermedades-reumaticas/
CATEGORIES:Asociaciones de pacientes
END:VEVENT
BEGIN:VEVENT
DTSTART;TZID=Europe/Paris:20211216T180000
DTEND;TZID=Europe/Paris:20211216T190000
DTSTAMP:20260425T191238
CREATED:20211216T082155Z
LAST-MODIFIED:20211216T082544Z
UID:3807-1639677600-1639681200@abbviecare.es
SUMMARY:Charla reumatólogo
DESCRIPTION:Charla reumatólogo\nMás información
URL:https://abbviecare.es/evento/charla-reumatologo/
ATTACH;FMTTYPE=image/jpeg:https://abbviecare.es/wp-content/uploads/2021/12/20211216-charla-reumatologo-02.jpg
END:VEVENT
END:VCALENDAR