BEGIN:VCALENDAR
VERSION:2.0
PRODID:-//AbbVie Care - ECPv6.11.2//NONSGML v1.0//EN
CALSCALE:GREGORIAN
METHOD:PUBLISH
X-ORIGINAL-URL:https://abbviecare.es
X-WR-CALDESC:Events for AbbVie Care
REFRESH-INTERVAL;VALUE=DURATION:PT1H
X-Robots-Tag:noindex
X-PUBLISHED-TTL:PT1H
BEGIN:VTIMEZONE
TZID:Europe/Paris
BEGIN:DAYLIGHT
TZOFFSETFROM:+0100
TZOFFSETTO:+0200
TZNAME:CEST
DTSTART:20210328T010000
END:DAYLIGHT
BEGIN:STANDARD
TZOFFSETFROM:+0200
TZOFFSETTO:+0100
TZNAME:CET
DTSTART:20211031T010000
END:STANDARD
BEGIN:DAYLIGHT
TZOFFSETFROM:+0100
TZOFFSETTO:+0200
TZNAME:CEST
DTSTART:20220327T010000
END:DAYLIGHT
BEGIN:STANDARD
TZOFFSETFROM:+0200
TZOFFSETTO:+0100
TZNAME:CET
DTSTART:20221030T010000
END:STANDARD
BEGIN:DAYLIGHT
TZOFFSETFROM:+0100
TZOFFSETTO:+0200
TZNAME:CEST
DTSTART:20230326T010000
END:DAYLIGHT
BEGIN:STANDARD
TZOFFSETFROM:+0200
TZOFFSETTO:+0100
TZNAME:CET
DTSTART:20231029T010000
END:STANDARD
END:VTIMEZONE
BEGIN:VEVENT
DTSTART;TZID=Europe/Paris:20230425T170000
DTEND;TZID=Europe/Paris:20230425T180000
DTSTAMP:20260425T175918
CREATED:20230331T082509Z
LAST-MODIFIED:20230331T082509Z
UID:5195-1682442000-1682445600@abbviecare.es
SUMMARY:Taller para la gestión emocional
DESCRIPTION:Cuando tenemos una enfermedad crónica\, a veces es difícil gestionar lo que nos pasa a nivel emocional. \nTe invitamos a participar en el Taller para la Gestión Emocional\, donde tendrás un espacio para reflexionar y compartir con otras personas todo aquello que te va ocurriendo en tu día a día a nivel emocional. \nCada sesión está enfocada en una temática concreta para poder ayudarnos con nuestras preocupaciones\, miedos e inquietudes\, y así poder comprender lo que nos está sucediendo. \nImpartido por la Psicóloga Sara Muntadas. \nPrecio: 15€/mes \nInscripción a través de Whatsapp en el: 685 66 21 85
URL:https://abbviecare.es/evento/taller-para-la-gestion-emocional-4/
ATTACH;FMTTYPE=image/jpeg:https://abbviecare.es/wp-content/uploads/2023/03/taller-gestion-emocional.jpg
END:VEVENT
BEGIN:VEVENT
DTSTART;TZID=Europe/Paris:20230418T170000
DTEND;TZID=Europe/Paris:20230418T180000
DTSTAMP:20260425T175918
CREATED:20230331T082412Z
LAST-MODIFIED:20230331T082412Z
UID:5193-1681837200-1681840800@abbviecare.es
SUMMARY:Taller para la gestión emocional
DESCRIPTION:Cuando tenemos una enfermedad crónica\, a veces es difícil gestionar lo que nos pasa a nivel emocional. \nTe invitamos a participar en el Taller para la Gestión Emocional\, donde tendrás un espacio para reflexionar y compartir con otras personas todo aquello que te va ocurriendo en tu día a día a nivel emocional. \nCada sesión está enfocada en una temática concreta para poder ayudarnos con nuestras preocupaciones\, miedos e inquietudes\, y así poder comprender lo que nos está sucediendo. \nImpartido por la Psicóloga Sara Muntadas. \nPrecio: 15€/mes \nInscripción a través de Whatsapp en el: 685 66 21 85
URL:https://abbviecare.es/evento/taller-para-la-gestion-emocional-3/
ATTACH;FMTTYPE=image/jpeg:https://abbviecare.es/wp-content/uploads/2023/03/taller-gestion-emocional.jpg
END:VEVENT
BEGIN:VEVENT
DTSTART;TZID=Europe/Paris:20230417T190000
DTEND;TZID=Europe/Paris:20230417T203000
DTSTAMP:20260425T175918
CREATED:20230331T102700Z
LAST-MODIFIED:20230331T102700Z
UID:5197-1681758000-1681763400@abbviecare.es
SUMMARY:Cómo convivir con una enfermedad reumática - Higiene y cuidado personal
DESCRIPTION:Los hábitos saludables y el cuidado personal\, inciden directamente en nuestro bienestar físico y mental\, mejorando nuestra calidad de vida. \nLa enfermera Inma Pérez nos dará recomendaciones especialmente dirigidas a personas con alguna enfermedad reumática\, en la segunda sesión del curso “Cómo convivir con una enfermedad reumática“. \nMás información
URL:https://abbviecare.es/evento/como-convivir-con-una-enfermedad-reumatica-higiene-y-cuidado-personal/
ATTACH;FMTTYPE=image/jpeg:https://abbviecare.es/wp-content/uploads/2023/03/higiene-personal.jpg
END:VEVENT
BEGIN:VEVENT
DTSTART;TZID=Europe/Paris:20230411T170000
DTEND;TZID=Europe/Paris:20230411T180000
DTSTAMP:20260425T175918
CREATED:20230331T082328Z
LAST-MODIFIED:20230331T082328Z
UID:5191-1681232400-1681236000@abbviecare.es
SUMMARY:Taller para la gestión emocional
DESCRIPTION:Cuando tenemos una enfermedad crónica\, a veces es difícil gestionar lo que nos pasa a nivel emocional. \nTe invitamos a participar en el Taller para la Gestión Emocional\, donde tendrás un espacio para reflexionar y compartir con otras personas todo aquello que te va ocurriendo en tu día a día a nivel emocional. \nCada sesión está enfocada en una temática concreta para poder ayudarnos con nuestras preocupaciones\, miedos e inquietudes\, y así poder comprender lo que nos está sucediendo. \nImpartido por la Psicóloga Sara Muntadas. \nPrecio: 15€/mes \nInscripción a través de Whatsapp en el: 685 66 21 85
URL:https://abbviecare.es/evento/taller-para-la-gestion-emocional-2/
ATTACH;FMTTYPE=image/jpeg:https://abbviecare.es/wp-content/uploads/2023/03/taller-gestion-emocional.jpg
END:VEVENT
BEGIN:VEVENT
DTSTART;TZID=Europe/Paris:20230404T170000
DTEND;TZID=Europe/Paris:20230404T180000
DTSTAMP:20260425T175918
CREATED:20230331T082216Z
LAST-MODIFIED:20230331T082216Z
UID:5188-1680627600-1680631200@abbviecare.es
SUMMARY:Taller para la gestión emocional
DESCRIPTION:Cuando tenemos una enfermedad crónica\, a veces es difícil gestionar lo que nos pasa a nivel emocional. \nTe invitamos a participar en el Taller para la Gestión Emocional\, donde tendrás un espacio para reflexionar y compartir con otras personas todo aquello que te va ocurriendo en tu día a día a nivel emocional. \nCada sesión está enfocada en una temática concreta para poder ayudarnos con nuestras preocupaciones\, miedos e inquietudes\, y así poder comprender lo que nos está sucediendo. \nImpartido por la Psicóloga Sara Muntadas. \nPrecio: 15€/mes \nInscripción a través de Whatsapp en el: 685 66 21 85
URL:https://abbviecare.es/evento/taller-para-la-gestion-emocional/
ATTACH;FMTTYPE=image/jpeg:https://abbviecare.es/wp-content/uploads/2023/03/taller-gestion-emocional.jpg
END:VEVENT
BEGIN:VEVENT
DTSTART;TZID=Europe/Paris:20230320T190000
DTEND;TZID=Europe/Paris:20230320T200000
DTSTAMP:20260425T175918
CREATED:20230314T131733Z
LAST-MODIFIED:20230314T131733Z
UID:5109-1679338800-1679342400@abbviecare.es
SUMMARY:Cómo convivir con una enfermedad reumática
DESCRIPTION:El 20 de marzo comienza el curso «Cómo convivir con una enfermedad reumática» y la primera sesión estará dedicada a la Incapacidad Laboral\, donde el abogado de Reu+\, Carles Serralta\, nos hablará sobre los tipos de incapacidad y los derechos que como paciente de una enfermedad reumática tienes al solicitarla. \nRecuerda que puedes inscribirte al curso completo o a sesiones sueltas. Puedes consultar el programa en la web www.reumas.org \nMás información
URL:https://abbviecare.es/evento/como-convivir-con-una-enfermedad-reumatica/
ATTACH;FMTTYPE=image/jpeg:https://abbviecare.es/wp-content/uploads/2023/03/vivir-enfermeadad-reumatica.jpg
END:VEVENT
BEGIN:VEVENT
DTSTART;TZID=Europe/Paris:20230208T190000
DTEND;TZID=Europe/Paris:20230322T203000
DTSTAMP:20260425T175918
CREATED:20230131T114750Z
LAST-MODIFIED:20230131T115053Z
UID:5080-1675882800-1679517000@abbviecare.es
SUMMARY:Curso sobre fibromialgia y síndromes de sensibilización central
DESCRIPTION:¿Qué pasa cuando nos diagnostican fibromialgia o síndrome de sensibilización central?\n¿ Cuál es el proceso posterior al diagnóstico?\n¿Cómo puedo conocer mejor mi enfermedad? \nEstas y otras cuestiones como los tipos y aspectos psicológicos del dolor\, o las terapias complementarias al tratamiento farmacológico\, se abordarán en este curso destinado a todas las personas que estén aprendiendo a convivir con su enfermedad. \nAdemás hablaremos de la importancia de la comunicación entre médico y paciente\, el sistema sanitario y la defensa de derechos de personas con enfermedades reumáticas. \nMás información \nInscríbete
URL:https://abbviecare.es/evento/curso-sobre-fibromialgia-y-sindromes-de-sensibilizacion-central/
ATTACH;FMTTYPE=image/jpeg:https://abbviecare.es/wp-content/uploads/2023/01/evento-fibromiargia.jpg
END:VEVENT
BEGIN:VEVENT
DTSTART;TZID=Europe/Paris:20230127T173000
DTEND;TZID=Europe/Paris:20230127T193000
DTSTAMP:20260425T175918
CREATED:20230109T100935Z
LAST-MODIFIED:20230109T100935Z
UID:5056-1674840600-1674847800@abbviecare.es
SUMMARY:Reu+ | Formación de Bienvenida
DESCRIPTION:Esta formación pretende acompañar y dar información de valor para el proceso que debe seguir cada personada diagnosticada con una Enfermedad Reumática para encajar el cambio en su vida y reorientarla. También es una formación indicada para las personas que conviven y atienden a las personas con una enfermedad reumática. \nHoras lectivas\n3 horas. 2 sesiones de 1\,5 horas. \nModalidad \nOnline\, vía Zoom \nMás información
URL:https://abbviecare.es/evento/reu-formacion-de-bienvenida/
ATTACH;FMTTYPE=image/jpeg:https://abbviecare.es/wp-content/uploads/2023/01/formacion-bienvenida.jpg
END:VEVENT
BEGIN:VEVENT
DTSTART;TZID=Europe/Paris:20230110T170000
DTEND;TZID=Europe/Paris:20230110T180000
DTSTAMP:20260425T175918
CREATED:20230109T101246Z
LAST-MODIFIED:20230109T101246Z
UID:5059-1673370000-1673373600@abbviecare.es
SUMMARY:Taller de Mindfulness para la gestión emocional
DESCRIPTION:Todos los martes de 17 a 18h\, en formato online a través de zoom. \n¿De qué trata el taller?\nNos introduciremos en la atención plena a través de la respiración\, de las sensaciones del cuerpo y de la visualización\, situándonos en el momento presente.\nPoco a poco conseguiremos conocer mejor nuestros pensamientos\, nuestras emociones\, nuestro cuerpo y nuestro dolor. Esto va ligado a una serie de beneficios: reducir el estrés y la angustia\, ya que se reduce el cortisol\, mejorar la concentración y la memoria\, reforzar la autocompasión y el autoconocimiento\, ser más conscientes y tener un mayor bienestar. \nMás información
URL:https://abbviecare.es/evento/taller-de-mindfulness-para-la-gestion-emocional/2023-01-10/
ATTACH;FMTTYPE=image/png:https://abbviecare.es/wp-content/uploads/2023/01/taller-mindfulness.png
END:VEVENT
BEGIN:VEVENT
DTSTART;TZID=Europe/Paris:20221125T190000
DTEND;TZID=Europe/Paris:20221125T203000
DTSTAMP:20260425T175918
CREATED:20221108T162911Z
LAST-MODIFIED:20221108T162911Z
UID:4984-1669402800-1669408200@abbviecare.es
SUMMARY:Jornada Enfermedades Inflamatorias y Autoinmunes sistémicas
DESCRIPTION:Jornada Enfermedades Inflamatorias y Autoinmunes sistémicas\nAcceso online gratuito gracias a nuestros patrocinadores: necesario registro con formulario en la web para poder intervenir y hacer preguntas en directo. Además este año podéis enviar a las asociaciones directamente las preguntas que tengáis con anterioridad. \nMás información
URL:https://abbviecare.es/evento/jornada-enfermedades-inflamatorias-y-autoinmunes-sistemicas/
ATTACH;FMTTYPE=image/jpeg:https://abbviecare.es/wp-content/uploads/2022/11/liga-reumatologica-tertulia.jpg
END:VEVENT
BEGIN:VEVENT
DTSTART;TZID=Europe/Paris:20220930T173000
DTEND;TZID=Europe/Paris:20220930T190000
DTSTAMP:20260425T175918
CREATED:20220927T152119Z
LAST-MODIFIED:20220927T152119Z
UID:4901-1664559000-1664564400@abbviecare.es
SUMMARY:Formación de bienvenida
DESCRIPTION:Formación de bienvenida\nEsta formación pretende acompañar y dar información de valor para el proceso que debe seguir cada personada diagnosticada con una Enfermedad Reumática para encajar el cambio en su vida y reorientarla. También es una formación indicada para las personas que conviven y atienden a las personas con una enfermedad reumática. \nHoras lectivas\n3 horas. 2 sesiones de 1\,5 horas. \nModalidad\nOnline\, vía Zoom \nMás información sobre el curso en www.reumas.org \nMás información
URL:https://abbviecare.es/evento/formacion-de-bienvenida-5/2022-09-30/
ATTACH;FMTTYPE=image/jpeg:https://abbviecare.es/wp-content/uploads/2022/09/formacion-bienvenida-reuma.jpg
END:VEVENT
BEGIN:VEVENT
DTSTART;TZID=Europe/Paris:20220920T183000
DTEND;TZID=Europe/Paris:20220920T200000
DTSTAMP:20260425T175918
CREATED:20220829T071358Z
LAST-MODIFIED:20220829T071358Z
UID:4827-1663698600-1663704000@abbviecare.es
SUMMARY:Masterclass de yoga terapéutico y meditación para el dolor crónico
DESCRIPTION:Masterclass de yoga terapéutico y meditación para el dolor crónico\nC/ de la Llibertat\, 48\, Barcelona\nAportación: 15€ (8€ socios) \nMás información
URL:https://abbviecare.es/evento/masterclass-de-yoga-terapeutico-y-meditacion-para-el-dolor-cronico/
ATTACH;FMTTYPE=image/jpeg:https://abbviecare.es/wp-content/uploads/2022/08/taller-yoga-terapeutico.jpg
END:VEVENT
BEGIN:VEVENT
DTSTART;TZID=Europe/Paris:20220914T190000
DTEND;TZID=Europe/Paris:20220914T203000
DTSTAMP:20260425T175918
CREATED:20220829T070709Z
LAST-MODIFIED:20220829T070709Z
UID:4818-1663182000-1663187400@abbviecare.es
SUMMARY:Curso sobre Autoimmunes inflamatorias
DESCRIPTION:Curso sobre Autoimmunes inflamatorias\nConocer más y mejor a la enfermedad (autoinmune inflamatoria) con la que convives es clave en el desarrollo de la perspectiva del paciente activo. Así como los temas relacionados como es el manejo de la enfermedad\, el aprender a convivir con la enfermedad\, o la adherencia al tratamiento son fundamentales. \nContenidos \n\n¿Qué pasa cuando nos diagnostican una enfermedad autoimmune?\nProceso posterior al diagnóstico.\nHablemos de Espondilitis\, Artritis\, Lupus\, Síndrome de Sjögren\, Esclerodermia\, Vasculitis\, Enfermedad de Behçet\, etc\nDefinición de dolor\, tipos.\nAspectos psicológicos del dolor crónico.\nAdherencia: cumplir con el plan de tratamiento.\nCómo convivir con una enfermedad autoimmune\nComunicación médico-paciente.\n\nDías y Horas lectivas \n\n10\,5 horas. 7 sesiones de  1\,5horas.\nMiércoles del 14/09 al 23/11 de 19h a 20:30h\nDías: 14-sep\, 28-sep\, 05-oct\,19 -oct\, 26-oct\, 09-nov\, 23-nov\n\nMás información
URL:https://abbviecare.es/evento/curso-sobre-autoimmunes-inflamatorias/2022-09-14/
ATTACH;FMTTYPE=image/jpeg:https://abbviecare.es/wp-content/uploads/2022/08/evento-enfermedades-inflamatorias.jpg
END:VEVENT
BEGIN:VEVENT
DTSTART;TZID=Europe/Paris:20220702T163000
DTEND;TZID=Europe/Paris:20220702T183000
DTSTAMP:20260425T175918
CREATED:20220623T074838Z
LAST-MODIFIED:20220623T074838Z
UID:4776-1656779400-1656786600@abbviecare.es
SUMMARY:El dolor desde la experiencia del paciente
DESCRIPTION:El dolor desde la experiencia del paciente\n¿Por qué es importante hablar del dolor desde la perspectiva del paciente? \n👉 Porque la percepción que tiene una persona de su propia situación impacta directamente en su calidad de vida\, la cual engloba factores físicos\, psíquicos y sociales que varían según esa percepción individual de cada persona afectada por una enfermedad con dolor crónico. \nUn infratratamiento del dolor\, derivado\, entre otros motivos\, por un mal diagnóstico del dolorcrónico como un problema de salud en sí mismo\, provoca que las personas afectadas tengan que adaptar su día a día a un deterioro progresivo en su calidad de vida\, que repercute directamente en su salud física y emocional. \nTe invitamos a participar en nuestra JornadaOnline. \nMás información
URL:https://abbviecare.es/evento/el-dolor-desde-la-experiencia-del-paciente/
ATTACH;FMTTYPE=image/jpeg:https://abbviecare.es/wp-content/uploads/2022/06/el-dolor-desde-la-experiencia-evento.jpg
END:VEVENT
BEGIN:VEVENT
DTSTART;TZID=Europe/Paris:20220701T173000
DTEND;TZID=Europe/Paris:20220701T190000
DTSTAMP:20260425T175918
CREATED:20220623T074425Z
LAST-MODIFIED:20220623T075033Z
UID:4773-1656696600-1656702000@abbviecare.es
SUMMARY:Formación de Bienvenida
DESCRIPTION:Formación de Bienvenida\nNueva edición de nuestra Formación de Bienvenida para acompañar a las personas socias de Reu+ en el proceso de aprender a convivir con una enfermedad reumática. \nMás información
URL:https://abbviecare.es/evento/formacion-de-bienvenida-3/2022-07-01/
ATTACH;FMTTYPE=image/jpeg:https://abbviecare.es/wp-content/uploads/2022/06/reumas-formacion-bienvenida.jpg
END:VEVENT
BEGIN:VEVENT
DTSTART;TZID=Europe/Paris:20220618T100000
DTEND;TZID=Europe/Paris:20220618T120000
DTSTAMP:20260425T175918
CREATED:20220601T092712Z
LAST-MODIFIED:20220601T092712Z
UID:4666-1655546400-1655553600@abbviecare.es
SUMMARY:Talleres para la infancia y sus familias
DESCRIPTION:Talleres para la infancia y sus familias\nEl sábado 18 de junio os proponemos un doble taller; uno dirigido a los niños y niñas\, y en paralelo\, uno para padres y madres. \n🔵 Taller infantil:\n– Dirigido a niños y niñas con enfermedad reumática de edades comprendidas entre los 6 y los 12 años.\n– Objetivo: trabajar la propiocepción y mejorar la comunicación de los síntomas.\n– Metodología: Dinámica lúdica y de juego mediante el dibujo del propio cuerpo.\n– Tallerista: Patricia Planas\, psicóloga.\n– Duración: 2h.\n– Fecha: 18 de junio\, de 10h a 12h.\n– Lugar: Hospital Sant Joan de Déu (Barcelona). \n🔵 Taller para padres y madres. \n– Dirigido a padres y madres de niños y niñas con enfermedad reumática de edades comprendidas entre los 6 i los 12 años.\n– Objetivo: Mejorar la comunicación de los síntomas.\n– Metodología: Charla y debate.\n– Tallerista: Sara Muntadas\, psicóloga.\n– Duración: 1\,5h.\n– Fecha: 18 de junio de 10h a 12h.\n– Lugar: Hospital Sant Joan de Déu (Barcelona). \n* Taller gratuito para familias socias de Reu+ / Lliga Reumatològica Catalana. \nMás información
URL:https://abbviecare.es/evento/talleres-para-la-infancia-y-sus-familias/
LOCATION:Hospital Sant Joan de Déu Barcelona\, Passeig de Sant Joan de Déu\, 2\, Esplugues de Llobregat\, Barcelona\, 08950\, España
ATTACH;FMTTYPE=image/jpeg:https://abbviecare.es/wp-content/uploads/2022/06/20220602-evento-reumas.jpg
END:VEVENT
BEGIN:VEVENT
DTSTART;TZID=Europe/Paris:20220508T100000
DTEND;TZID=Europe/Paris:20220508T133000
DTSTAMP:20260425T175918
CREATED:20220509T093211Z
LAST-MODIFIED:20220509T093312Z
UID:4599-1652004000-1652016600@abbviecare.es
SUMMARY:Jornada por la salud y el bienestar
DESCRIPTION:Jornada por la salud y el bienestar\n¡Ven a caminar con nosotros el domingo 8 de mayo\, en nuestra Jornada por la salud y el bienestar! \nNos acompañará la alpinista y comunicadora Araceli Segarra\, 1ª española en alcanzar la cumbre del Everest en 1996\, quien además ofrecerá una charla motivacional antes de la caminata. \nMás información
URL:https://abbviecare.es/evento/jornada-por-la-salud-y-el-bienestar/
ATTACH;FMTTYPE=image/png:https://abbviecare.es/wp-content/uploads/2022/05/Jornada-por-la-salud-y-el-bienestar.png
END:VEVENT
BEGIN:VEVENT
DTSTART;TZID=Europe/Paris:20220422T173000
DTEND;TZID=Europe/Paris:20220422T190000
DTSTAMP:20260425T175918
CREATED:20220405T085322Z
LAST-MODIFIED:20220405T085322Z
UID:4498-1650648600-1650654000@abbviecare.es
SUMMARY:Formación de bienvenida
DESCRIPTION:Formación de bienvenida\nEsta formación pretende acompañar y dar información de valor para el proceso que debe seguir cada personada diagnosticada con una Enfermedad Reumática para encajar el cambio en su vida y reorientarla. También es una formación indicada para las personas que conviven y atienden a las personas con una enfermedad reumática. \nMás información
URL:https://abbviecare.es/evento/formacion-de-bienvenida-2/2022-04-22/
ATTACH;FMTTYPE=image/jpeg:https://abbviecare.es/wp-content/uploads/2022/04/bienvenida-reuma-scaled.jpeg
END:VEVENT
BEGIN:VEVENT
DTSTART;VALUE=DATE:20220208
DTEND;VALUE=DATE:20220209
DTSTAMP:20260425T175918
CREATED:20220207T162616Z
LAST-MODIFIED:20220207T162616Z
UID:4152-1644278400-1644364799@abbviecare.es
SUMMARY:Taller de flores en el asfalto
DESCRIPTION:Taller de flores en el asfalto\nFlores en el asfalto nace con la misión de inspirar a personas marcadas por enfermedades autoinmunes para que reconozcan su valía en un entorno de comprensión y esperanza\, de forma que vivan su proceso con mayor serenidad y alegría. \nMás información
URL:https://abbviecare.es/evento/taller-de-flores-en-el-asfalto/
ATTACH;FMTTYPE=image/jpeg:https://abbviecare.es/wp-content/uploads/2022/02/20220207-flores-en-el-asfalto.jpeg
END:VEVENT
BEGIN:VEVENT
DTSTART;TZID=Europe/Paris:20220203T180000
DTEND;TZID=Europe/Paris:20220203T190000
DTSTAMP:20260425T175918
CREATED:20220207T162229Z
LAST-MODIFIED:20220207T162229Z
UID:4138-1643911200-1643914800@abbviecare.es
SUMMARY:Acompañamiento en Artritis Reumatoide de María Real Capell
DESCRIPTION:Acompañamiento en Artritis Reumatoide de María Real Capell\n\nTodas las reuniones tienen una duración aproximada de 90 minutos menos en las reuniones con Víctor Díaz\, la profesora de yoga y Dr Juan Muñoz que durarán 120 minutos. \nMás información
URL:https://abbviecare.es/evento/acompanamiento-en-artritis-reumatoide-de-maria-real-capell/2022-02-03/
ATTACH;FMTTYPE=image/jpeg:https://abbviecare.es/wp-content/uploads/2022/02/20220207-maria-real-capell.jpg
END:VEVENT
BEGIN:VEVENT
DTSTART;TZID=Europe/Paris:20220201T170000
DTEND;TZID=Europe/Paris:20220201T180000
DTSTAMP:20260425T175918
CREATED:20220207T162932Z
LAST-MODIFIED:20220207T162957Z
UID:4155-1643734800-1643738400@abbviecare.es
SUMMARY:Taller de mindfulness
DESCRIPTION:Taller de mindfulness\n¿De qué trata el taller?\nNos introduciremos en la atención plena a través de la respiración\, de las sensaciones del cuerpo y de la visualización\, situándonos en el momento presente.\nPoco a poco conseguiremos conocer mejor nuestros pensamientos\, nuestras emociones\, nuestro cuerpo y nuestro dolor. Esto va ligado a una serie de beneficios: reducir el estrés y la angustia\, ya que se reduce el cortisol\, mejorar la concentración y la memoria\, reforzar la autocompasión y el autoconocimiento\, ser más conscientes y tener un mayor bienestar. \nMás información
URL:https://abbviecare.es/evento/taller-de-mindfulness/2022-02-01/
ATTACH;FMTTYPE=image/jpeg:https://abbviecare.es/wp-content/uploads/2022/02/20220207-taller-mindfulness.jpg
END:VEVENT
BEGIN:VEVENT
DTSTART;TZID=Europe/Paris:20220120T190000
DTEND;TZID=Europe/Paris:20220120T203000
DTSTAMP:20260425T175918
CREATED:20220110T142927Z
LAST-MODIFIED:20220110T142927Z
UID:3929-1642705200-1642710600@abbviecare.es
SUMMARY:Diseña tu 2022 sin los típicos propósitos\, con un camino esperanzado
DESCRIPTION:Diseña tu 2022 sin los típicos propósitos\, con un camino esperanzado\nTaller online con Miren Amestoy \nMás información
URL:https://abbviecare.es/evento/disena-tu-2022-sin-los-tipicos-propositos-con-un-camino-esperanzado/
ATTACH;FMTTYPE=image/jpeg:https://abbviecare.es/wp-content/uploads/2022/01/taller-diena-2022.jpg
END:VEVENT
BEGIN:VEVENT
DTSTART;TZID=Europe/Paris:20220116T113000
DTEND;TZID=Europe/Paris:20220116T123000
DTSTAMP:20260425T175918
CREATED:20211216T082913Z
LAST-MODIFIED:20220110T142335Z
UID:3814-1642332600-1642336200@abbviecare.es
SUMMARY:Clase de iniciación a la Marcha Nórdica
DESCRIPTION:Clase de iniciación a la Marcha Nórdica\nLugar: Parc de la Ciutadella de Barcelona (entrada banda del Zoo\, placeta del zoo\, entrando por la puerta junto estación de Francia).\nHorario: 90 minutos\, de 11:30h a 13h.\nMaterial: Ropa y calzado para caminar. Bastones de marcha nórdica a cuenta de  la organización. \nPrecio: 5€ / No asociados 7€ \n¡Puedes venir con una persona amiga o familiar no socia! \nInscripción aquí
URL:https://abbviecare.es/evento/clase-de-iniciacion-a-la-marcha-nordica/
LOCATION:Parc de la Ciutadella\, BCN
ATTACH;FMTTYPE=image/jpeg:https://abbviecare.es/wp-content/uploads/2021/12/marcha-nordica-enero.jpg
END:VEVENT
BEGIN:VEVENT
DTSTART;TZID=Europe/Paris:20220114T173000
DTEND;TZID=Europe/Paris:20220114T190000
DTSTAMP:20260425T175918
CREATED:20220110T154641Z
LAST-MODIFIED:20220110T154906Z
UID:3932-1642181400-1642186800@abbviecare.es
SUMMARY:Formación de bienvenida
DESCRIPTION:Formación de bienvenida\nEsta formación pretende acompañar y dar información de valor para el proceso que debe seguir cada personada diagnosticada con una Enfermedad Reumática para encajar el cambio en su vida y reorientarla. También es una formación indicada para las personas que conviven y atienden a las personas con una enfermedad reumática. \nMás información
URL:https://abbviecare.es/evento/formacion-de-bienvenida/2022-01-14/
ATTACH;FMTTYPE=image/jpeg:https://abbviecare.es/wp-content/uploads/2022/01/sesion-bienvenida-02.jpg
END:VEVENT
BEGIN:VEVENT
DTSTART;TZID=Europe/Paris:20220111T193000
DTEND;TZID=Europe/Paris:20220111T203000
DTSTAMP:20260425T175918
CREATED:20220110T142714Z
LAST-MODIFIED:20220110T155008Z
UID:3923-1641929400-1641933000@abbviecare.es
SUMMARY:Yoga terapéutico para el dolor crónico
DESCRIPTION:Yoga terapéutico para el dolor crónico\nTodos los martes y miércoles.\nCuota 40eur/mes \nMás información
URL:https://abbviecare.es/evento/yoga-terapeutico-para-el-dolor-cronico/2022-01-11/
ATTACH;FMTTYPE=image/jpeg:https://abbviecare.es/wp-content/uploads/2022/01/yoga-terapeutico-reuma.jpg
END:VEVENT
BEGIN:VEVENT
DTSTART;TZID=Europe/Paris:20211130T190000
DTEND;TZID=Europe/Paris:20211130T200000
DTSTAMP:20260425T175918
CREATED:20211118T170732Z
LAST-MODIFIED:20211118T170732Z
UID:3678-1638298800-1638302400@abbviecare.es
SUMMARY:Nuevos enfoques terapéuticos en Fibromialgia
DESCRIPTION:Nuevos enfoques terapéuticos en Fibromialgia\nDra Mª Ángeles Idiazabal\nMás información
URL:https://abbviecare.es/evento/nuevos-enfoques-terapeuticos-en-fibromialgia/
ATTACH;FMTTYPE=image/png:https://abbviecare.es/wp-content/uploads/2021/11/evento-reuma-enfoques-terapeuticos.png
END:VEVENT
BEGIN:VEVENT
DTSTART;TZID=Europe/Paris:20211127T163000
DTEND;TZID=Europe/Paris:20211127T180000
DTSTAMP:20260425T175918
CREATED:20211111T091303Z
LAST-MODIFIED:20211111T091421Z
UID:3591-1638030600-1638036000@abbviecare.es
SUMMARY:Jornada online sobre el dolor infantil en las enfermedades reumáticas
DESCRIPTION:Jornada online sobre el dolor infantil en las enfermedades reumáticas\nMás información
URL:https://abbviecare.es/evento/jornada-online-sobre-el-dolor-infantil-en-las-enfermedades-reumaticas/
ATTACH;FMTTYPE=image/png:https://abbviecare.es/wp-content/uploads/2021/11/evento-reu-jornada-online.png
END:VEVENT
BEGIN:VEVENT
DTSTART;VALUE=DATE:20211112
DTEND;VALUE=DATE:20211113
DTSTAMP:20260425T175918
CREATED:20211111T091656Z
LAST-MODIFIED:20211111T091656Z
UID:3594-1636675200-1636761599@abbviecare.es
SUMMARY:Nutrición Integrativa
DESCRIPTION:Nutrición Integrativa\nCon Tania González Penadés\, Dietista-Nutricionista \nMás información
URL:https://abbviecare.es/evento/nutricion-integrativa/
ATTACH;FMTTYPE=image/png:https://abbviecare.es/wp-content/uploads/2021/11/nutricion-integrativa.png
END:VEVENT
END:VCALENDAR