BEGIN:VCALENDAR
VERSION:2.0
PRODID:-//AbbVie Care - ECPv6.11.2//NONSGML v1.0//EN
CALSCALE:GREGORIAN
METHOD:PUBLISH
X-ORIGINAL-URL:https://abbviecare.es
X-WR-CALDESC:Events for AbbVie Care
REFRESH-INTERVAL;VALUE=DURATION:PT1H
X-Robots-Tag:noindex
X-PUBLISHED-TTL:PT1H
BEGIN:VTIMEZONE
TZID:Europe/Paris
BEGIN:DAYLIGHT
TZOFFSETFROM:+0100
TZOFFSETTO:+0200
TZNAME:CEST
DTSTART:20210328T010000
END:DAYLIGHT
BEGIN:STANDARD
TZOFFSETFROM:+0200
TZOFFSETTO:+0100
TZNAME:CET
DTSTART:20211031T010000
END:STANDARD
BEGIN:DAYLIGHT
TZOFFSETFROM:+0100
TZOFFSETTO:+0200
TZNAME:CEST
DTSTART:20220327T010000
END:DAYLIGHT
BEGIN:STANDARD
TZOFFSETFROM:+0200
TZOFFSETTO:+0100
TZNAME:CET
DTSTART:20221030T010000
END:STANDARD
BEGIN:DAYLIGHT
TZOFFSETFROM:+0100
TZOFFSETTO:+0200
TZNAME:CEST
DTSTART:20230326T010000
END:DAYLIGHT
BEGIN:STANDARD
TZOFFSETFROM:+0200
TZOFFSETTO:+0100
TZNAME:CET
DTSTART:20231029T010000
END:STANDARD
END:VTIMEZONE
BEGIN:VEVENT
DTSTART;TZID=Europe/Paris:20231024T173000
DTEND;TZID=Europe/Paris:20231024T183000
DTSTAMP:20260425T175708
CREATED:20231006T072620Z
LAST-MODIFIED:20231006T072620Z
UID:5795-1698168600-1698172200@abbviecare.es
SUMMARY:DOLOR CRÓNICO EN ERYMES
DESCRIPTION:DOLOR CRÓNICO EN ERYMES\nEl día 24 de octubre podremos disfrutar de una charla sobre el dolor crónico de la mano del Doctor Carlos Fernández\, reumatológo del CHUAC. \nSerá a las 17.30 en el Círculo de Artesanos de A Coruña. \nPodéis inscribiros en info@ligagaleg.org. \nMás información
URL:https://abbviecare.es/evento/dolor-cronico-en-erymes/
LOCATION:Círculo de Artesanos\, R. San Andrés\, 36\,\, A Coruña\, 15003\, España
ATTACH;FMTTYPE=image/jpeg:https://abbviecare.es/wp-content/uploads/2023/10/liga-gallega-charlas.jpg
END:VEVENT
BEGIN:VEVENT
DTSTART;TZID=Europe/Paris:20211217T180000
DTEND;TZID=Europe/Paris:20211217T190000
DTSTAMP:20260425T175708
CREATED:20211216T083249Z
LAST-MODIFIED:20211216T101822Z
UID:3818-1639764000-1639767600@abbviecare.es
SUMMARY:Brindis / Picoteo
DESCRIPTION:Brindis / Picoteo\nActuación especial del mago Rafa \nMás información
URL:https://abbviecare.es/evento/brindis-picoteo/
LOCATION:Círculo de Artesanos\, R. San Andrés\, 36\,\, A Coruña\, 15003\, España
ATTACH;FMTTYPE=image/jpeg:https://abbviecare.es/wp-content/uploads/2021/12/20211217-brindis.jpg
END:VEVENT
END:VCALENDAR