BEGIN:VCALENDAR
VERSION:2.0
PRODID:-//AbbVie Care - ECPv6.11.2//NONSGML v1.0//EN
CALSCALE:GREGORIAN
METHOD:PUBLISH
X-ORIGINAL-URL:https://abbviecare.es
X-WR-CALDESC:Events for AbbVie Care
REFRESH-INTERVAL;VALUE=DURATION:PT1H
X-Robots-Tag:noindex
X-PUBLISHED-TTL:PT1H
BEGIN:VTIMEZONE
TZID:Europe/Paris
BEGIN:DAYLIGHT
TZOFFSETFROM:+0100
TZOFFSETTO:+0200
TZNAME:CEST
DTSTART:20230326T010000
END:DAYLIGHT
BEGIN:STANDARD
TZOFFSETFROM:+0200
TZOFFSETTO:+0100
TZNAME:CET
DTSTART:20231029T010000
END:STANDARD
END:VTIMEZONE
BEGIN:VEVENT
DTSTART;VALUE=DATE:20231020
DTEND;VALUE=DATE:20231022
DTSTAMP:20260426T000047
CREATED:20230620T144839Z
LAST-MODIFIED:20230703T090825Z
UID:5409-1697760000-1697932799@abbviecare.es
SUMMARY:X Simposio de Espondiloartritis
DESCRIPTION:X Simposio de Espondiloartritis.\nEl 20 y 21 de octubre de 2023\, la Sociedad Española de Reumatología celebrará en Ibiza el X Simposio de Espondiloartritis\, en el Palacio de Congresos de Ibiza. \nMás información
URL:https://abbviecare.es/evento/x-simposio-de-espondiloartritis/
LOCATION:Palacio de Congresos de Ibiza
ATTACH;FMTTYPE=image/png:https://abbviecare.es/wp-content/uploads/2023/06/00323-Portada-Microsite-10ESP-1024x400px-v01_Imagen.png
END:VEVENT
END:VCALENDAR