BEGIN:VCALENDAR
VERSION:2.0
PRODID:-//AbbVie Care - ECPv6.11.2//NONSGML v1.0//EN
CALSCALE:GREGORIAN
METHOD:PUBLISH
X-WR-CALNAME:AbbVie Care
X-ORIGINAL-URL:https://abbviecare.es
X-WR-CALDESC:Events for AbbVie Care
REFRESH-INTERVAL;VALUE=DURATION:PT1H
X-Robots-Tag:noindex
X-PUBLISHED-TTL:PT1H
BEGIN:VTIMEZONE
TZID:Europe/Paris
BEGIN:DAYLIGHT
TZOFFSETFROM:+0100
TZOFFSETTO:+0200
TZNAME:CEST
DTSTART:20220327T010000
END:DAYLIGHT
BEGIN:STANDARD
TZOFFSETFROM:+0200
TZOFFSETTO:+0100
TZNAME:CET
DTSTART:20221030T010000
END:STANDARD
END:VTIMEZONE
BEGIN:VEVENT
DTSTART;TZID=Europe/Paris:20220315T113000
DTEND;TZID=Europe/Paris:20220315T130000
DTSTAMP:20260426T051716
CREATED:20220302T091000Z
LAST-MODIFIED:20220302T091000Z
UID:4241-1647343800-1647349200@abbviecare.es
SUMMARY:ParticipACCIÓN: El modelo de excelencia de las organizaciones sanitarias en la involucración de los pacientes
DESCRIPTION:ParticipACCIÓN: El modelo de excelencia de las organizaciones sanitarias en la involucración de los pacientes\nParticipACCIÓN: El modelo de excelencia de las organizaciones sanitarias en la involucración de los pacientes’ en la sala Valle-Inclán del Círculo de Bellas Artes\, situado en la Calle Alcalá\, 42\, Madrid. \nDebido al aforo limitado\, se requiere confirmar asistencia mediante el siguiente enlace. \nMás información
URL:https://abbviecare.es/evento/participaccion-el-modelo-de-excelencia-de-las-organizaciones-sanitarias-en-la-involucracion-de-los-pacientes/
LOCATION:Sala Valle-Inclán del Círculo de Bellas Artes\, Calle Alcalá\, 42\, Madrid\, España
ATTACH;FMTTYPE=image/png:https://abbviecare.es/wp-content/uploads/2022/03/Captura-de-pantalla-2022-03-02-a-las-10.08.45.png
END:VEVENT
END:VCALENDAR